BEGIN:VCALENDAR
VERSION:2.0
PRODID:-//pilgrimcenterofhope.org//NONSGML kigkonsult.se iCalcreator 2.30.1
 0//
CALSCALE:GREGORIAN
METHOD:PUBLISH
UID:b0d3f211-7441-42b3-908e-af594c338785
X-WR-CALDESC:You are invited to take a journey of discovery through history
 \, science\, art\, faith & beyond... permanently in San Antonio\, Texas. E
 xplore an unsolved mystery—the Shroud of Turin\, an ancient\, linen cloth 
 bearing the image of a tortured and crucified man’s body\; the most studie
 d relic in the world.\n\nNo cost to the public! Donations are welcomed.\n
 \nGroups of more than 14 persons must call to reserve a time slot: 210-521
 -3377.\n\n<b>“Who Is the Man of the Shroud?” permanent exhibition is now o
 pen most Fridays\, 10:00am-4:00pm.</b>
X-WR-RELCALID:7911af84436a568f5f8615192fafb886
X-WR-TIMEZONE:America/Chicago
BEGIN:VTIMEZONE
TZID:America/Chicago
BEGIN:STANDARD
TZNAME:CST
DTSTART:20251102T020000
TZOFFSETFROM:-0500
TZOFFSETTO:-0600
RDATE:20261101T020000
RDATE:20271107T020000
END:STANDARD
BEGIN:DAYLIGHT
TZNAME:CDT
DTSTART:20260308T020000
TZOFFSETFROM:-0600
TZOFFSETTO:-0500
RDATE:20270314T020000
END:DAYLIGHT
END:VTIMEZONE
BEGIN:VEVENT
UID:f0dfb946-0130-4349-8976-23157c934446
DTSTAMP:20260420T013911Z
DESCRIPTION:You are invited to take a journey of discovery through history\
 , science\, art\, faith & beyond... permanently in San Antonio\, Texas. Ex
 plore an unsolved mystery—the Shroud of Turin\, an ancient\, linen cloth b
 earing the image of a tortured and crucified man’s body\; the most studied
  relic in the world.\n\nNo cost to the public! Donations are welcomed.\n\n
 Groups of more than 14 persons must call to reserve a time slot: 210-521-3
 377.\n\n<b>“Who Is the Man of the Shroud?” permanent exhibition is now ope
 n most Fridays\, 10:00am-4:00pm.</b>
DTSTART;TZID=America/Chicago:20260724T100000
DTEND;TZID=America/Chicago:20260724T160000
LOCATION:7680 Joe Newton St.\, San Antonio\, TX 78251 US
SUMMARY:CLOSED - Exhibition: Who Is the Man of the Shroud?
END:VEVENT
END:VCALENDAR
