BEGIN:VCALENDAR
VERSION:2.0
PRODID:-//pilgrimcenterofhope.org//NONSGML kigkonsult.se iCalcreator 2.30.1
 0//
CALSCALE:GREGORIAN
METHOD:PUBLISH
UID:ee80ab9c-1a6b-4baf-a18c-1af20a5476f2
X-WR-CALDESC:In preparation for our annual Rejoice in Hope! event\, the Who
  Is the Man of the Shroud? exhibition will be closed on Friday\, September
  26\, 2025. It will re-open on Friday\, October 3\, 2025.\n
X-WR-RELCALID:3fcb1dad76c2ee81cecc592f2b8ffd6d
X-WR-TIMEZONE:America/Chicago
BEGIN:VTIMEZONE
TZID:America/Chicago
BEGIN:STANDARD
TZNAME:CST
DTSTART:20241103T020000
TZOFFSETFROM:-0500
TZOFFSETTO:-0600
RDATE:20251102T020000
RDATE:20261101T020000
END:STANDARD
BEGIN:DAYLIGHT
TZNAME:CDT
DTSTART:20250309T020000
TZOFFSETFROM:-0600
TZOFFSETTO:-0500
RDATE:20260308T020000
RDATE:20270314T020000
END:DAYLIGHT
END:VTIMEZONE
BEGIN:VEVENT
UID:9ba4b73a-dea5-4c24-bdd0-fdc59932a88a
DTSTAMP:20260421T094952Z
DESCRIPTION:In preparation for our annual Rejoice in Hope! event\, the Who 
 Is the Man of the Shroud? exhibition will be closed on Friday\, September 
 26\, 2025. It will re-open on Friday\, October 3\, 2025.\n
DTSTART;TZID=America/Chicago:20250926T050000
DTEND;TZID=America/Chicago:20250926T050001
LOCATION:7680 Joe Newton St.\, San Antonio\, AL 78251 US
SUMMARY:Exhibition: Who Is the Man of the Shroud? - CLOSED 9/26/25
END:VEVENT
END:VCALENDAR
