BEGIN:VCALENDAR
VERSION:2.0
PRODID:-//pilgrimcenterofhope.org//NONSGML kigkonsult.se iCalcreator 2.30.1
 0//
CALSCALE:GREGORIAN
METHOD:PUBLISH
UID:a91f7441-ea43-46c2-8288-dae983767abc
X-WR-CALDESC:Have a Social with the Saints! Receive encouragement for your 
 daily life as we meet & discuss this prominent cardinal and reformer in Ch
 urch history. Who was he? How will he help and inspire you?\n\nJoin us at 
 Pilgrim Center of Hope for an in-person gathering\, discussion & prayer.\n
 \nCost: Pilgrim Center of Hope is a non-profit evangelization ministry\, s
 ustained only by donations. While there is no required fee for attending\,
  please consider donating a one-time gift or showing your support with a m
 onthly donation. Every bit helps this mission of hope to continue. Thank y
 ou!
X-WR-RELCALID:ef4e8d05546473745c3dbfd7639b3b11
X-WR-TIMEZONE:America/Chicago
BEGIN:VTIMEZONE
TZID:America/Chicago
BEGIN:STANDARD
TZNAME:CST
DTSTART:20241103T020000
TZOFFSETFROM:-0500
TZOFFSETTO:-0600
RDATE:20251102T020000
END:STANDARD
BEGIN:DAYLIGHT
TZNAME:CDT
DTSTART:20240310T020000
TZOFFSETFROM:-0600
TZOFFSETTO:-0500
RDATE:20250309T020000
RDATE:20260308T020000
END:DAYLIGHT
END:VTIMEZONE
BEGIN:VEVENT
UID:e6fc61bd-f4ee-4aa4-a940-095a8ed692c0
DTSTAMP:20260421T094717Z
DESCRIPTION:Have a Social with the Saints! Receive encouragement for your d
 aily life as we meet & discuss this prominent cardinal and reformer in Chu
 rch history. Who was he? How will he help and inspire you?\n\nJoin us at P
 ilgrim Center of Hope for an in-person gathering\, discussion & prayer.\n
 \nCost: Pilgrim Center of Hope is a non-profit evangelization ministry\, s
 ustained only by donations. While there is no required fee for attending\,
  please consider donating a one-time gift or showing your support with a m
 onthly donation. Every bit helps this mission of hope to continue. Thank y
 ou!
DTSTART;TZID=America/Chicago:20241121T140000
DTEND;TZID=America/Chicago:20241121T153000
LOCATION:7680 Joe Newton\, San Antonio\, TX 78251 US
SUMMARY:St. Charles Borromeo Social with the Saints
END:VEVENT
END:VCALENDAR
