BEGIN:VCALENDAR
VERSION:2.0
PRODID:-//pilgrimcenterofhope.org//NONSGML kigkonsult.se iCalcreator 2.30.1
 0//
CALSCALE:GREGORIAN
METHOD:PUBLISH
UID:73ad0c6f-81d2-478c-a5a5-830d2ba03ee8
X-WR-CALDESC:Pilgrim Center of Hope will be preparing registered individual
 s for an upcoming pilgrimage.
X-WR-RELCALID:8586602df3f0f18a59dc6e98b38a2d72
X-WR-TIMEZONE:America/Chicago
BEGIN:VTIMEZONE
TZID:America/Chicago
BEGIN:STANDARD
TZNAME:CST
DTSTART:20251102T020000
TZOFFSETFROM:-0500
TZOFFSETTO:-0600
RDATE:20261101T020000
END:STANDARD
BEGIN:DAYLIGHT
TZNAME:CDT
DTSTART:20250309T020000
TZOFFSETFROM:-0600
TZOFFSETTO:-0500
RDATE:20260308T020000
RDATE:20270314T020000
END:DAYLIGHT
END:VTIMEZONE
BEGIN:VEVENT
UID:dae8a57f-cc00-4619-a753-c0f14300375c
DTSTAMP:20260421T082315Z
DESCRIPTION:Pilgrim Center of Hope will be preparing registered individuals
  for an upcoming pilgrimage.
DTSTART;TZID=America/Chicago:20260308T140000
DTEND;TZID=America/Chicago:20260308T160000
LOCATION:
SUMMARY:Meeting
END:VEVENT
END:VCALENDAR
