BEGIN:VCALENDAR
VERSION:2.0
PRODID:-//pilgrimcenterofhope.org//NONSGML kigkonsult.se iCalcreator 2.30.1
 0//
CALSCALE:GREGORIAN
METHOD:PUBLISH
UID:58faad8d-0424-4f1a-bd7c-721d3a947c1c
X-WR-CALDESC:“Who Is the Man of the Shroud?” permanent exhibition is CLOSED
  TODAY due to preparation for our annual Catholic Men's Conference\, organ
 ized by Pilgrim Center of Hope.
X-WR-RELCALID:0d026b1ec590e275cec71390d93781d6
X-WR-TIMEZONE:America/Chicago
BEGIN:VTIMEZONE
TZID:America/Chicago
BEGIN:STANDARD
TZNAME:CST
DTSTART:20231105T020000
TZOFFSETFROM:-0500
TZOFFSETTO:-0600
RDATE:20241103T020000
END:STANDARD
BEGIN:DAYLIGHT
TZNAME:CDT
DTSTART:20240310T020000
TZOFFSETFROM:-0600
TZOFFSETTO:-0500
RDATE:20250309T020000
END:DAYLIGHT
END:VTIMEZONE
BEGIN:VEVENT
UID:3b925c98-6f02-49cc-905c-7af92023aea9
DTSTAMP:20260425T185104Z
DESCRIPTION:“Who Is the Man of the Shroud?” permanent exhibition is CLOSED 
 TODAY due to preparation for our annual Catholic Men's Conference\, organi
 zed by Pilgrim Center of Hope.
DTSTART;TZID=America/Chicago:20240419T050000
DTEND;TZID=America/Chicago:20240419T050001
LOCATION:7680 Joe Newton St.\, San Antonio\, AL 78251 US
SUMMARY:Exhibition CLOSED TODAY (Who Is the Man of the Shroud?)
END:VEVENT
END:VCALENDAR
