BEGIN:VCALENDAR
VERSION:2.0
PRODID:-//pilgrimcenterofhope.org//NONSGML kigkonsult.se iCalcreator 2.30.1
 0//
CALSCALE:GREGORIAN
METHOD:PUBLISH
UID:b7898a8d-430a-4de5-8f0a-98a4aa4950ae
X-WR-CALDESC:Pilgrim Center of Hope will be closed today for staff training
 . Thank you for your understanding. Feel free to leave a voicemail at 210-
 521-3377 or email us using the Contact Us option here on our website.
X-WR-RELCALID:779e5bebede7f6cf8ab1165c3e91bb6e
X-WR-TIMEZONE:America/Chicago
BEGIN:VTIMEZONE
TZID:America/Chicago
BEGIN:STANDARD
TZNAME:CST
DTSTART:20251102T020000
TZOFFSETFROM:-0500
TZOFFSETTO:-0600
RDATE:20261101T020000
END:STANDARD
BEGIN:DAYLIGHT
TZNAME:CDT
DTSTART:20260308T020000
TZOFFSETFROM:-0600
TZOFFSETTO:-0500
RDATE:20270314T020000
END:DAYLIGHT
END:VTIMEZONE
BEGIN:VEVENT
UID:19774467-5344-47c2-8f06-884b36fee15c
DTSTAMP:20260422T041957Z
DESCRIPTION:Pilgrim Center of Hope will be closed today for staff training.
  Thank you for your understanding. Feel free to leave a voicemail at 210-5
 21-3377 or email us using the Contact Us option here on our website.
DTSTART;TZID=America/Chicago:20260422T050000
DTEND;TZID=America/Chicago:20260422T050001
LOCATION:
SUMMARY:Closed for Staff Development
END:VEVENT
END:VCALENDAR
