BEGIN:VCALENDAR
VERSION:2.0
PRODID:-//pilgrimcenterofhope.org//NONSGML kigkonsult.se iCalcreator 2.30.1
 0//
CALSCALE:GREGORIAN
METHOD:PUBLISH
UID:58d61ac4-8877-44d1-803e-1f6bf0195e04
X-WR-CALDESC:In observance of Good Friday\, our exhibition will have specia
 l hours.
X-WR-RELCALID:f35dbadb68ee6ccf1180f0b90c7a7bda
X-WR-TIMEZONE:America/Chicago
BEGIN:VTIMEZONE
TZID:America/Chicago
BEGIN:STANDARD
TZNAME:CST
DTSTART:20251102T020000
TZOFFSETFROM:-0500
TZOFFSETTO:-0600
RDATE:20261101T020000
END:STANDARD
BEGIN:DAYLIGHT
TZNAME:CDT
DTSTART:20260308T020000
TZOFFSETFROM:-0600
TZOFFSETTO:-0500
RDATE:20270314T020000
END:DAYLIGHT
END:VTIMEZONE
BEGIN:VEVENT
UID:7e592010-5d91-407d-bc85-e545350bcb8c
DTSTAMP:20260421T094834Z
DESCRIPTION:In observance of Good Friday\, our exhibition will have special
  hours.
DTSTART;TZID=America/Chicago:20260403T090000
DTEND;TZID=America/Chicago:20260403T120000
LOCATION:7680 Joe Newton St.\, San Antonio\, TX 78251 US
SUMMARY:SPECIAL HOURS - Exhibition: Who Is the Man of the Shroud?
END:VEVENT
END:VCALENDAR
