BEGIN:VCALENDAR
VERSION:2.0
PRODID:-//pilgrimcenterofhope.org//NONSGML kigkonsult.se iCalcreator 2.30.1
 0//
CALSCALE:GREGORIAN
METHOD:PUBLISH
UID:7ce4d2ed-2492-44a1-874c-8cdb61e36167
X-WR-CALDESC:Pilgrim Center of Hope is seeking committed volunteers to supp
 ort our mission. We need Ambassadors during our events\; providing warm ho
 spitality\, facilitating check-in\, and other related tasks as needed. \n
 \nUse the link below to sign up\, then come and see how you can bring hope
  through your gift of presence!
X-WR-RELCALID:52585f1719a895c1845bc32fb365020d
X-WR-TIMEZONE:America/Chicago
BEGIN:VTIMEZONE
TZID:America/Chicago
BEGIN:STANDARD
TZNAME:CST
DTSTART:20251102T020000
TZOFFSETFROM:-0500
TZOFFSETTO:-0600
RDATE:20261101T020000
END:STANDARD
BEGIN:DAYLIGHT
TZNAME:CDT
DTSTART:20250309T020000
TZOFFSETFROM:-0600
TZOFFSETTO:-0500
RDATE:20260308T020000
RDATE:20270314T020000
END:DAYLIGHT
END:VTIMEZONE
BEGIN:VEVENT
UID:e06c9961-3f75-431d-a5ee-fdd557225df9
DTSTAMP:20260419T132341Z
DESCRIPTION:Pilgrim Center of Hope is seeking committed volunteers to suppo
 rt our mission. We need Ambassadors during our events\; providing warm hos
 pitality\, facilitating check-in\, and other related tasks as needed. \n\n
 Use the link below to sign up\, then come and see how you can bring hope t
 hrough your gift of presence!
DTSTART;TZID=America/Chicago:20260228T100000
DTEND;TZID=America/Chicago:20260228T113000
LOCATION:7680 Joe Newton\, San Antonio\, TX 78245 US
SUMMARY:PCH Ambassador Volunteer Training
END:VEVENT
END:VCALENDAR
