BEGIN:VCALENDAR
VERSION:2.0
PRODID:-//pilgrimcenterofhope.org//NONSGML kigkonsult.se iCalcreator 2.30.1
 0//
CALSCALE:GREGORIAN
METHOD:PUBLISH
UID:14b31d7c-af25-4fa6-a384-f8062f4a002c
X-WR-CALDESC:Pilgrim Center of Hope Shroud Ambassadors will provide 'A Jour
 ney with the Shroud' presentation at Trinity University\, Dicke Hall 108\,
  sponsored by the Catholic Student Group.
X-WR-RELCALID:460f38b0bcfc5613d2e8e896a2bab525
X-WR-TIMEZONE:America/Chicago
BEGIN:VTIMEZONE
TZID:America/Chicago
BEGIN:STANDARD
TZNAME:CST
DTSTART:20251102T020000
TZOFFSETFROM:-0500
TZOFFSETTO:-0600
RDATE:20261101T020000
END:STANDARD
BEGIN:DAYLIGHT
TZNAME:CDT
DTSTART:20250309T020000
TZOFFSETFROM:-0600
TZOFFSETTO:-0500
RDATE:20260308T020000
RDATE:20270314T020000
END:DAYLIGHT
END:VTIMEZONE
BEGIN:VEVENT
UID:a6239fdb-5383-4ab6-b22c-94926ff446a4
DTSTAMP:20260419T132407Z
DESCRIPTION:Pilgrim Center of Hope Shroud Ambassadors will provide 'A Journ
 ey with the Shroud' presentation at Trinity University\, Dicke Hall 108\, 
 sponsored by the Catholic Student Group.
DTSTART;TZID=America/Chicago:20260225T190000
DTEND;TZID=America/Chicago:20260225T203000
LOCATION:1 Trinity Place\, San Antonio\, TX 78212 US
SUMMARY:Journey with the Shroud - Trinity U.
END:VEVENT
END:VCALENDAR
