BEGIN:VCALENDAR
VERSION:2.0
PRODID:-//pilgrimcenterofhope.org//NONSGML kigkonsult.se iCalcreator 2.30.1
 0//
CALSCALE:GREGORIAN
METHOD:PUBLISH
UID:012da5a3-553b-466b-af3b-0ff87da43913
X-WR-CALDESC:Have a Social with the Saints! Receive encouragement for your 
 daily life as we meet the two canonized shepherd children - brother and si
 ster Francisco and Jacinta Marto - who witnessed the apparition of the Ble
 ssed Virgin Mary at Fatima\, Portugal. Learn about who they were and their
  lives before and after the apparition.\n\nJoin us at Church of the Good S
 hepherd Faith Formation Building (at the rear of the church building) Room
 s 2&3 for an in-person gathering\, discussion & prayer.\n\nCost: Pilgrim C
 enter of Hope is a non-profit evangelization ministry\, sustained only by 
 donations. While there is no required fee for attending\, please consider 
 donating a one-time gift or showing your support with a monthly donation. 
 Every bit helps this mission of hope to continue. Thank you!
X-WR-RELCALID:e4de53326546d5667cc6972b66fd75dc
X-WR-TIMEZONE:America/Chicago
BEGIN:VTIMEZONE
TZID:America/Chicago
BEGIN:STANDARD
TZNAME:CST
DTSTART:20251102T020000
TZOFFSETFROM:-0500
TZOFFSETTO:-0600
RDATE:20261101T020000
END:STANDARD
BEGIN:DAYLIGHT
TZNAME:CDT
DTSTART:20250309T020000
TZOFFSETFROM:-0600
TZOFFSETTO:-0500
RDATE:20260308T020000
RDATE:20270314T020000
END:DAYLIGHT
END:VTIMEZONE
BEGIN:VEVENT
UID:961ca2ce-d0bc-4611-aa98-edc006f2f530
DTSTAMP:20260419T132521Z
DESCRIPTION:Have a Social with the Saints! Receive encouragement for your d
 aily life as we meet the two canonized shepherd children - brother and sis
 ter Francisco and Jacinta Marto - who witnessed the apparition of the Bles
 sed Virgin Mary at Fatima\, Portugal. Learn about who they were and their 
 lives before and after the apparition.\n\nJoin us at Church of the Good Sh
 epherd Faith Formation Building (at the rear of the church building) Rooms
  2&3 for an in-person gathering\, discussion & prayer.\n\nCost: Pilgrim Ce
 nter of Hope is a non-profit evangelization ministry\, sustained only by d
 onations. While there is no required fee for attending\, please consider d
 onating a one-time gift or showing your support with a monthly donation. E
 very bit helps this mission of hope to continue. Thank you!
DTSTART;TZID=America/Chicago:20260224T140000
DTEND;TZID=America/Chicago:20260224T150000
LOCATION:1065 E. Live Oak Rd.\, Schertz\, TX 78154 US
SUMMARY:Sts. Francisco & Jacinta Marto Social with the Saints
END:VEVENT
END:VCALENDAR
