BEGIN:VCALENDAR
VERSION:2.0
PRODID:-//pilgrimcenterofhope.org//NONSGML kigkonsult.se iCalcreator 2.30.1
 0//
CALSCALE:GREGORIAN
METHOD:PUBLISH
UID:c8e56a63-0715-42a4-b86c-202e22c168d4
X-WR-CALDESC:Pilgrim Center of Hope will provide 'A Journey with the Shroud
 ' and time for reflection\, for the students of a local Catholic school.
X-WR-RELCALID:18482b234d8b7010f72c92adadadce1a
X-WR-TIMEZONE:America/Chicago
BEGIN:VTIMEZONE
TZID:America/Chicago
BEGIN:STANDARD
TZNAME:CST
DTSTART:20251102T020000
TZOFFSETFROM:-0500
TZOFFSETTO:-0600
RDATE:20261101T020000
END:STANDARD
BEGIN:DAYLIGHT
TZNAME:CDT
DTSTART:20250309T020000
TZOFFSETFROM:-0600
TZOFFSETTO:-0500
RDATE:20260308T020000
RDATE:20270314T020000
END:DAYLIGHT
END:VTIMEZONE
BEGIN:VEVENT
UID:791160a9-3682-4c40-b3cd-6906c750b172
DTSTAMP:20260419T173530Z
DESCRIPTION:Pilgrim Center of Hope will provide 'A Journey with the Shroud'
  and time for reflection\, for the students of a local Catholic school.
DTSTART;TZID=America/Chicago:20260224T100000
DTEND;TZID=America/Chicago:20260224T120000
LOCATION:
SUMMARY:Journey with the Shroud - School
END:VEVENT
END:VCALENDAR
