BEGIN:VCALENDAR
VERSION:2.0
PRODID:-//pilgrimcenterofhope.org//NONSGML kigkonsult.se iCalcreator 2.30.1
 0//
CALSCALE:GREGORIAN
METHOD:PUBLISH
UID:5ce71bf6-d91a-415c-a469-0eced796af0a
X-WR-CALDESC:Pilgrim Center of Hope will be preparing individuals for an up
 coming pilgrimage.
X-WR-RELCALID:d9329fcc0bfd4e0cf186b25304073e82
X-WR-TIMEZONE:America/Chicago
BEGIN:VTIMEZONE
TZID:America/Chicago
BEGIN:STANDARD
TZNAME:CST
DTSTART:20251102T020000
TZOFFSETFROM:-0500
TZOFFSETTO:-0600
RDATE:20261101T020000
END:STANDARD
BEGIN:DAYLIGHT
TZNAME:CDT
DTSTART:20250309T020000
TZOFFSETFROM:-0600
TZOFFSETTO:-0500
RDATE:20260308T020000
RDATE:20270314T020000
END:DAYLIGHT
END:VTIMEZONE
BEGIN:VEVENT
UID:d297462c-3c8e-4f2e-9f62-43e2a7d6932a
DTSTAMP:20260419T132240Z
DESCRIPTION:Pilgrim Center of Hope will be preparing individuals for an upc
 oming pilgrimage.
DTSTART;TZID=America/Chicago:20260222T140000
DTEND;TZID=America/Chicago:20260222T160000
LOCATION:
SUMMARY:Meeting
END:VEVENT
END:VCALENDAR
