BEGIN:VCALENDAR
VERSION:2.0
PRODID:-//pilgrimcenterofhope.org//NONSGML kigkonsult.se iCalcreator 2.30.1
 0//
CALSCALE:GREGORIAN
METHOD:PUBLISH
UID:b3986b2a-6dcd-4e9f-9a3f-8a6c49debaea
X-WR-CALDESC:Journey with Mary & the Saints! You're invited to learn about 
 a unique\, 12-day Journey to Fatima\, Lourdes\, Lisieux & Paris. Imagine s
 tanding where Mary appeared to young Fatima shepherds\, drinking from the 
 miraculous Lourdes spring\, walking an international Rosary procession\, r
 eceiving graces where Mary gave us the Miraculous Medal in Paris\, visitin
 g St. Therese's convent\, and more! The journey departs San Antonio July 6
 -16. \n\nCome learn more at Pilgrim Center of Hope on Sat.\, Feb. 21\; 1pm
 -3pm (presentation\, door prizes\, refreshments).\n\nA friendly reminder: 
 Pilgrim Center of Hope is not a tour company. As a non-profit evangelizati
 on apostolate located in the archdiocesan region\, our mission offers Cath
 olic events\, media\, and experiences including authentic pilgrimages for 
 growth in virtue and relationship with God & the Church.\n\n'I truly appre
 ciate your dedication to all the people you evangelize through your pilgri
 mages and for your love of God and Church.  May the Lord continue to guide
  and bless you...' - Most Rev. Gustavo Garcia-Siller\, M.Sp.S.\, Archbisho
 p of San Antonio
X-WR-RELCALID:407e01141b1307139bfe0b9780944006
X-WR-TIMEZONE:America/Chicago
BEGIN:VTIMEZONE
TZID:America/Chicago
BEGIN:STANDARD
TZNAME:CST
DTSTART:20251102T020000
TZOFFSETFROM:-0500
TZOFFSETTO:-0600
RDATE:20261101T020000
END:STANDARD
BEGIN:DAYLIGHT
TZNAME:CDT
DTSTART:20250309T020000
TZOFFSETFROM:-0600
TZOFFSETTO:-0500
RDATE:20260308T020000
RDATE:20270314T020000
END:DAYLIGHT
END:VTIMEZONE
BEGIN:VEVENT
UID:2e9ef207-4acb-4252-9bb7-75090b6fc50e
DTSTAMP:20260419T132341Z
DESCRIPTION:Journey with Mary & the Saints! You're invited to learn about a
  unique\, 12-day Journey to Fatima\, Lourdes\, Lisieux & Paris. Imagine st
 anding where Mary appeared to young Fatima shepherds\, drinking from the m
 iraculous Lourdes spring\, walking an international Rosary procession\, re
 ceiving graces where Mary gave us the Miraculous Medal in Paris\, visiting
  St. Therese's convent\, and more! The journey departs San Antonio July 6-
 16. \n\nCome learn more at Pilgrim Center of Hope on Sat.\, Feb. 21\; 1pm-
 3pm (presentation\, door prizes\, refreshments).\n\nA friendly reminder: P
 ilgrim Center of Hope is not a tour company. As a non-profit evangelizatio
 n apostolate located in the archdiocesan region\, our mission offers Catho
 lic events\, media\, and experiences including authentic pilgrimages for g
 rowth in virtue and relationship with God & the Church.\n\n'I truly apprec
 iate your dedication to all the people you evangelize through your pilgrim
 ages and for your love of God and Church.  May the Lord continue to guide 
 and bless you...' - Most Rev. Gustavo Garcia-Siller\, M.Sp.S.\, Archbishop
  of San Antonio
DTSTART;TZID=America/Chicago:20260221T130000
DTEND;TZID=America/Chicago:20260221T150000
LOCATION:7680 Joe Newton St.\, San Antonio\, TX 78251 US
SUMMARY:Journey with Mary & the Saints Info Session
END:VEVENT
END:VCALENDAR
