BEGIN:VCALENDAR
VERSION:2.0
PRODID:-//pilgrimcenterofhope.org//NONSGML kigkonsult.se iCalcreator 2.30.1
 0//
CALSCALE:GREGORIAN
METHOD:PUBLISH
UID:eb49bf07-d040-4680-b2e5-2922ed3d8108
X-WR-CALDESC:Have a Social with the Saints! Receive encouragement for your 
 daily life as we meet the two canonized shepherd children - brother and si
 ster Francisco and Jacinta Marto - who witnessed the apparition of the Ble
 ssed Virgin Mary at Fatima\, Portugal. Learn about who they were and their
  lives before and after the apparition.\n\nJoin us at Pilgrim Center of Ho
 pe for an in-person gathering\, discussion & prayer.\n\nCost: Pilgrim Cent
 er of Hope is a non-profit evangelization ministry\, sustained only by don
 ations. While there is no required fee for attending\, please consider don
 ating a one-time gift or showing your support with a monthly donation. Eve
 ry bit helps this mission of hope to continue. Thank you!
X-WR-RELCALID:e67d4780b0dfb1b26ddc333c02445d99
X-WR-TIMEZONE:America/Chicago
BEGIN:VTIMEZONE
TZID:America/Chicago
BEGIN:STANDARD
TZNAME:CST
DTSTART:20251102T020000
TZOFFSETFROM:-0500
TZOFFSETTO:-0600
RDATE:20261101T020000
END:STANDARD
BEGIN:DAYLIGHT
TZNAME:CDT
DTSTART:20250309T020000
TZOFFSETFROM:-0600
TZOFFSETTO:-0500
RDATE:20260308T020000
RDATE:20270314T020000
END:DAYLIGHT
END:VTIMEZONE
BEGIN:VEVENT
UID:bb682cde-6100-4ce1-8ecc-b946e12bc144
DTSTAMP:20260419T132407Z
DESCRIPTION:Have a Social with the Saints! Receive encouragement for your d
 aily life as we meet the two canonized shepherd children - brother and sis
 ter Francisco and Jacinta Marto - who witnessed the apparition of the Bles
 sed Virgin Mary at Fatima\, Portugal. Learn about who they were and their 
 lives before and after the apparition.\n\nJoin us at Pilgrim Center of Hop
 e for an in-person gathering\, discussion & prayer.\n\nCost: Pilgrim Cente
 r of Hope is a non-profit evangelization ministry\, sustained only by dona
 tions. While there is no required fee for attending\, please consider dona
 ting a one-time gift or showing your support with a monthly donation. Ever
 y bit helps this mission of hope to continue. Thank you!
DTSTART;TZID=America/Chicago:20260219T140000
DTEND;TZID=America/Chicago:20260219T153000
LOCATION:7680 Joe Newton\, San Antonio\, TX 78251 US
SUMMARY:Sts. Francisco & Jacinta Marto Social with the Saints
END:VEVENT
END:VCALENDAR
