BEGIN:VCALENDAR
VERSION:2.0
PRODID:-//pilgrimcenterofhope.org//NONSGML kigkonsult.se iCalcreator 2.30.1
 0//
CALSCALE:GREGORIAN
METHOD:PUBLISH
UID:432dabca-aa03-4c32-b4ee-ecf660ad2e00
X-WR-CALDESC:Have a Social with the Saints! Receive encouragement for your 
 daily life as we meet this role model whose respect and dignity in caring 
 for every person\, patients’ rights\, new (to the U.S.) hygiene practices\
 , and allowing medical students to receive practical experience in a hospi
 tal setting are all key in how she famously cared for Hansen's disease out
 casts on the Hawaiian islands.\n\nJoin us at Church of the Good Shepherd F
 aith Formation Building (at the rear of the church building) Rooms 2&3 for
  an in-person gathering\, discussion & prayer.\n\nCost: Pilgrim Center of 
 Hope is a non-profit evangelization ministry\, sustained only by donations
 . While there is no required fee for attending\, please consider donating 
 a one-time gift or showing your support with a monthly donation. Every bit
  helps this mission of hope to continue. Thank you!
X-WR-RELCALID:4bed5205eeba029be52d3ea49f0bc95c
X-WR-TIMEZONE:America/Chicago
BEGIN:VTIMEZONE
TZID:America/Chicago
BEGIN:STANDARD
TZNAME:CST
DTSTART:20251102T020000
TZOFFSETFROM:-0500
TZOFFSETTO:-0600
RDATE:20261101T020000
END:STANDARD
BEGIN:DAYLIGHT
TZNAME:CDT
DTSTART:20250309T020000
TZOFFSETFROM:-0600
TZOFFSETTO:-0500
RDATE:20260308T020000
RDATE:20270314T020000
END:DAYLIGHT
END:VTIMEZONE
BEGIN:VEVENT
UID:65f60768-ba6a-403c-9d88-87e4afa05ef8
DTSTAMP:20260419T145957Z
DESCRIPTION:Have a Social with the Saints! Receive encouragement for your d
 aily life as we meet this role model whose respect and dignity in caring f
 or every person\, patients’ rights\, new (to the U.S.) hygiene practices\,
  and allowing medical students to receive practical experience in a hospit
 al setting are all key in how she famously cared for Hansen's disease outc
 asts on the Hawaiian islands.\n\nJoin us at Church of the Good Shepherd Fa
 ith Formation Building (at the rear of the church building) Rooms 2&3 for 
 an in-person gathering\, discussion & prayer.\n\nCost: Pilgrim Center of H
 ope is a non-profit evangelization ministry\, sustained only by donations.
  While there is no required fee for attending\, please consider donating a
  one-time gift or showing your support with a monthly donation. Every bit 
 helps this mission of hope to continue. Thank you!
DTSTART;TZID=America/Chicago:20260127T140000
DTEND;TZID=America/Chicago:20260127T150000
LOCATION:1065 E. Live Oak Rd.\, Schertz\, TX 78154 US
SUMMARY:St. Marianne Cope Social with the Saints
END:VEVENT
END:VCALENDAR
