BEGIN:VCALENDAR
VERSION:2.0
PRODID:-//pilgrimcenterofhope.org//NONSGML kigkonsult.se iCalcreator 2.30.1
 0//
CALSCALE:GREGORIAN
METHOD:PUBLISH
UID:50dad7ec-74e9-47c6-9803-38c012d28fa7
X-WR-CALDESC:Pilgrim Center of Hope will be preparing individuals for an up
 coming pilgrimage.
X-WR-RELCALID:f73c8f98579ccfb45c1c71c57d08823d
X-WR-TIMEZONE:America/Chicago
BEGIN:VTIMEZONE
TZID:America/Chicago
BEGIN:STANDARD
TZNAME:CST
DTSTART:20251102T020000
TZOFFSETFROM:-0500
TZOFFSETTO:-0600
RDATE:20261101T020000
END:STANDARD
BEGIN:DAYLIGHT
TZNAME:CDT
DTSTART:20250309T020000
TZOFFSETFROM:-0600
TZOFFSETTO:-0500
RDATE:20260308T020000
RDATE:20270314T020000
END:DAYLIGHT
END:VTIMEZONE
BEGIN:VEVENT
UID:d60d80d1-b375-40e0-8c5c-a2c47ec69634
DTSTAMP:20260419T145845Z
DESCRIPTION:Pilgrim Center of Hope will be preparing individuals for an upc
 oming pilgrimage.
DTSTART;TZID=America/Chicago:20260118T140000
DTEND;TZID=America/Chicago:20260118T160000
LOCATION:
SUMMARY:Meeting
END:VEVENT
END:VCALENDAR
