BEGIN:VCALENDAR
VERSION:2.0
PRODID:-//pilgrimcenterofhope.org//NONSGML kigkonsult.se iCalcreator 2.30.1
 0//
CALSCALE:GREGORIAN
METHOD:PUBLISH
UID:7a82bc17-3d15-48fc-8b63-8efa9bc8119e
X-WR-CALDESC:Pilgrim Center of Hope will be preparing for an upcoming event
  during this meeting.
X-WR-RELCALID:bfc1360c493953a5d6f3c1c93807bf89
X-WR-TIMEZONE:America/Chicago
BEGIN:VTIMEZONE
TZID:America/Chicago
BEGIN:STANDARD
TZNAME:CST
DTSTART:20251102T020000
TZOFFSETFROM:-0500
TZOFFSETTO:-0600
RDATE:20261101T020000
END:STANDARD
BEGIN:DAYLIGHT
TZNAME:CDT
DTSTART:20250309T020000
TZOFFSETFROM:-0600
TZOFFSETTO:-0500
RDATE:20260308T020000
RDATE:20270314T020000
END:DAYLIGHT
END:VTIMEZONE
BEGIN:VEVENT
UID:aff58f46-8603-4179-8911-5bb32919cb90
DTSTAMP:20260419T145926Z
DESCRIPTION:Pilgrim Center of Hope will be preparing for an upcoming event 
 during this meeting.
DTSTART;TZID=America/Chicago:20260117T093000
DTEND;TZID=America/Chicago:20260117T120000
LOCATION:
SUMMARY:Meeting
END:VEVENT
END:VCALENDAR
