BEGIN:VCALENDAR
VERSION:2.0
PRODID:-//pilgrimcenterofhope.org//NONSGML kigkonsult.se iCalcreator 2.30.1
 0//
CALSCALE:GREGORIAN
METHOD:PUBLISH
UID:ceaf36e7-df5b-49f1-9f87-863ace2e067c
X-WR-CALDESC:Have a Social with the Saints! Receive encouragement for your 
 daily life as we meet this role model whose respect and dignity in caring 
 for every person\, patients’ rights\, new (to the U.S.) hygiene practices\
 , and allowing medical students to receive practical experience in a hospi
 tal setting are all key in how she famously cared for Hansen's disease out
 casts on the Hawaiian islands.\n\nJoin us at Pilgrim Center of Hope for an
  in-person gathering\, discussion & prayer.\n\nCost: Pilgrim Center of Hop
 e is a non-profit evangelization ministry\, sustained only by donations. W
 hile there is no required fee for attending\, please consider donating a o
 ne-time gift or showing your support with a monthly donation. Every bit he
 lps this mission of hope to continue. Thank you!
X-WR-RELCALID:1afdc7c56020c51aa19d7aa5770e62f5
X-WR-TIMEZONE:America/Chicago
BEGIN:VTIMEZONE
TZID:America/Chicago
BEGIN:STANDARD
TZNAME:CST
DTSTART:20251102T020000
TZOFFSETFROM:-0500
TZOFFSETTO:-0600
RDATE:20261101T020000
END:STANDARD
BEGIN:DAYLIGHT
TZNAME:CDT
DTSTART:20250309T020000
TZOFFSETFROM:-0600
TZOFFSETTO:-0500
RDATE:20260308T020000
RDATE:20270314T020000
END:DAYLIGHT
END:VTIMEZONE
BEGIN:VEVENT
UID:dba74c6d-dc89-45b7-a1ba-42120b35837c
DTSTAMP:20260419T145956Z
DESCRIPTION:Have a Social with the Saints! Receive encouragement for your d
 aily life as we meet this role model whose respect and dignity in caring f
 or every person\, patients’ rights\, new (to the U.S.) hygiene practices\,
  and allowing medical students to receive practical experience in a hospit
 al setting are all key in how she famously cared for Hansen's disease outc
 asts on the Hawaiian islands.\n\nJoin us at Pilgrim Center of Hope for an 
 in-person gathering\, discussion & prayer.\n\nCost: Pilgrim Center of Hope
  is a non-profit evangelization ministry\, sustained only by donations. Wh
 ile there is no required fee for attending\, please consider donating a on
 e-time gift or showing your support with a monthly donation. Every bit hel
 ps this mission of hope to continue. Thank you!
DTSTART;TZID=America/Chicago:20260115T140000
DTEND;TZID=America/Chicago:20260115T153000
LOCATION:7680 Joe Newton\, San Antonio\, TX 78251 US
SUMMARY:St. Marianne Cope Social with the Saints
END:VEVENT
END:VCALENDAR
