BEGIN:VCALENDAR
VERSION:2.0
PRODID:-//pilgrimcenterofhope.org//NONSGML kigkonsult.se iCalcreator 2.30.1
 0//
CALSCALE:GREGORIAN
METHOD:PUBLISH
UID:056fd66d-963b-44f1-9b38-09d04b98812f
X-WR-CALDESC:Pilgrim Center of Hope will be preparing individuals for an up
 coming pilgrimage.
X-WR-RELCALID:191cc11180f2d2ffbd7a994b838318dc
X-WR-TIMEZONE:America/Chicago
BEGIN:VTIMEZONE
TZID:America/Chicago
BEGIN:STANDARD
TZNAME:CST
DTSTART:20251102T020000
TZOFFSETFROM:-0500
TZOFFSETTO:-0600
RDATE:20261101T020000
END:STANDARD
BEGIN:DAYLIGHT
TZNAME:CDT
DTSTART:20250309T020000
TZOFFSETFROM:-0600
TZOFFSETTO:-0500
RDATE:20260308T020000
RDATE:20270314T020000
END:DAYLIGHT
END:VTIMEZONE
BEGIN:VEVENT
UID:d82410c6-09d3-40d6-84ef-6f27e955e617
DTSTAMP:20260419T145818Z
DESCRIPTION:Pilgrim Center of Hope will be preparing individuals for an upc
 oming pilgrimage.
DTSTART;TZID=America/Chicago:20260110T100000
DTEND;TZID=America/Chicago:20260110T123000
LOCATION:
SUMMARY:Meeting
END:VEVENT
END:VCALENDAR
