BEGIN:VCALENDAR
VERSION:2.0
PRODID:-//pilgrimcenterofhope.org//NONSGML kigkonsult.se iCalcreator 2.30.1
 0//
CALSCALE:GREGORIAN
METHOD:PUBLISH
UID:36258205-cceb-4d79-8c20-47af6290159b
X-WR-CALDESC:Pilgrim Center of Hope will be closed for the Solemnity of the
  Nativity of Our Lord Jesus Christ beginning on Christmas Eve at 12:30pm t
 hrough Christmas Day.
X-WR-RELCALID:d0dc9d5a9007c4d66fa88ae2136d4f3a
X-WR-TIMEZONE:America/Chicago
BEGIN:VTIMEZONE
TZID:America/Chicago
BEGIN:STANDARD
TZNAME:CST
DTSTART:20251102T020000
TZOFFSETFROM:-0500
TZOFFSETTO:-0600
RDATE:20261101T020000
END:STANDARD
BEGIN:DAYLIGHT
TZNAME:CDT
DTSTART:20250309T020000
TZOFFSETFROM:-0600
TZOFFSETTO:-0500
RDATE:20260308T020000
RDATE:20270314T020000
END:DAYLIGHT
END:VTIMEZONE
BEGIN:VEVENT
UID:e5e8bfdc-a3fc-4cce-b15b-93187580ebb6
DTSTAMP:20260419T162939Z
DESCRIPTION:Pilgrim Center of Hope will be closed for the Solemnity of the 
 Nativity of Our Lord Jesus Christ beginning on Christmas Eve at 12:30pm th
 rough Christmas Day.
DTSTART;TZID=America/Chicago:20251224T123000
DTEND;TZID=America/Chicago:20251225T173000
LOCATION:
SUMMARY:Closed for Christmas
END:VEVENT
END:VCALENDAR
