BEGIN:VCALENDAR
VERSION:2.0
PRODID:-//pilgrimcenterofhope.org//NONSGML kigkonsult.se iCalcreator 2.30.1
 0//
CALSCALE:GREGORIAN
METHOD:PUBLISH
UID:250e5539-3656-4143-b7aa-a11674ef4df8
X-WR-CALDESC:Have a Social with the Saints! Receive encouragement for your 
 daily life as we meet & discuss this chain-smoking misfit who became a her
 oic martyr during the Second World War. Who was she? How will she help and
  inspire you?\n\nJoin us at Pilgrim Center of Hope for an in-person gather
 ing\, discussion & prayer.\n\nCost: Pilgrim Center of Hope is a non-profit
  evangelization ministry\, sustained only by donations. While there is no 
 required fee for attending\, please consider donating a one-time gift or s
 howing your support with a monthly donation. Every bit helps this mission 
 of hope to continue. Thank you!
X-WR-RELCALID:88870a7fd53eb33e52e050c3dc490472
X-WR-TIMEZONE:America/Chicago
BEGIN:VTIMEZONE
TZID:America/Chicago
BEGIN:STANDARD
TZNAME:CST
DTSTART:20251102T020000
TZOFFSETFROM:-0500
TZOFFSETTO:-0600
RDATE:20261101T020000
END:STANDARD
BEGIN:DAYLIGHT
TZNAME:CDT
DTSTART:20250309T020000
TZOFFSETFROM:-0600
TZOFFSETTO:-0500
RDATE:20260308T020000
RDATE:20270314T020000
END:DAYLIGHT
END:VTIMEZONE
BEGIN:VEVENT
UID:a7448191-63f2-4dcd-9652-509660c5f2d5
DTSTAMP:20260419T163200Z
DESCRIPTION:Have a Social with the Saints! Receive encouragement for your d
 aily life as we meet & discuss this chain-smoking misfit who became a hero
 ic martyr during the Second World War. Who was she? How will she help and 
 inspire you?\n\nJoin us at Pilgrim Center of Hope for an in-person gatheri
 ng\, discussion & prayer.\n\nCost: Pilgrim Center of Hope is a non-profit 
 evangelization ministry\, sustained only by donations. While there is no r
 equired fee for attending\, please consider donating a one-time gift or sh
 owing your support with a monthly donation. Every bit helps this mission o
 f hope to continue. Thank you!
DTSTART;TZID=America/Chicago:20251218T140000
DTEND;TZID=America/Chicago:20251218T153000
LOCATION:7680 Joe Newton\, San Antonio\, TX 78251 US
SUMMARY:Bl. Sára Salkaházi Social with the Saints
END:VEVENT
END:VCALENDAR
