BEGIN:VCALENDAR
VERSION:2.0
PRODID:-//pilgrimcenterofhope.org//NONSGML kigkonsult.se iCalcreator 2.30.1
 0//
CALSCALE:GREGORIAN
METHOD:PUBLISH
UID:ae0b685f-ca2e-402b-80db-0dba93301355
X-WR-CALDESC:Pilgrim Center of Hope is hosting a local Marian group for the
 ir annual day retreat including a Journey with the Shroud presentation\, t
 ime for prayer\, and fellowship.
X-WR-RELCALID:defd73e91f7a4c5abce0cc16e1982fe4
X-WR-TIMEZONE:America/Chicago
BEGIN:VTIMEZONE
TZID:America/Chicago
BEGIN:STANDARD
TZNAME:CST
DTSTART:20251102T020000
TZOFFSETFROM:-0500
TZOFFSETTO:-0600
RDATE:20261101T020000
END:STANDARD
BEGIN:DAYLIGHT
TZNAME:CDT
DTSTART:20250309T020000
TZOFFSETFROM:-0600
TZOFFSETTO:-0500
RDATE:20260308T020000
RDATE:20270314T020000
END:DAYLIGHT
END:VTIMEZONE
BEGIN:VEVENT
UID:33af4211-3f30-4d58-97fe-eb19f547fe2a
DTSTAMP:20260419T163754Z
DESCRIPTION:Pilgrim Center of Hope is hosting a local Marian group for thei
 r annual day retreat including a Journey with the Shroud presentation\, ti
 me for prayer\, and fellowship.
DTSTART;TZID=America/Chicago:20251213T050000
DTEND;TZID=America/Chicago:20251213T050001
LOCATION:
SUMMARY:Event for Marian Group
END:VEVENT
END:VCALENDAR
