BEGIN:VCALENDAR
VERSION:2.0
PRODID:-//pilgrimcenterofhope.org//NONSGML kigkonsult.se iCalcreator 2.30.1
 0//
CALSCALE:GREGORIAN
METHOD:PUBLISH
UID:eb77ad98-9795-440a-a1b4-cada4fcc76fa
X-WR-CALDESC:Pilgrim Center of Hope will be closed for the Solemnity of the
  Immaculate Conception of the Blessed Virgin Mary\, the patronal feast day
  of the United States.
X-WR-RELCALID:52d427d58568cadc41cd13fdba5f5289
X-WR-TIMEZONE:America/Chicago
BEGIN:VTIMEZONE
TZID:America/Chicago
BEGIN:STANDARD
TZNAME:CST
DTSTART:20251102T020000
TZOFFSETFROM:-0500
TZOFFSETTO:-0600
RDATE:20261101T020000
END:STANDARD
BEGIN:DAYLIGHT
TZNAME:CDT
DTSTART:20250309T020000
TZOFFSETFROM:-0600
TZOFFSETTO:-0500
RDATE:20260308T020000
RDATE:20270314T020000
END:DAYLIGHT
END:VTIMEZONE
BEGIN:VEVENT
UID:eac61d20-9af6-41a9-adf2-ccac92dd68f8
DTSTAMP:20260419T162958Z
DESCRIPTION:Pilgrim Center of Hope will be closed for the Solemnity of the 
 Immaculate Conception of the Blessed Virgin Mary\, the patronal feast day 
 of the United States.
DTSTART;TZID=America/Chicago:20251208T050000
DTEND;TZID=America/Chicago:20251208T050001
LOCATION:
SUMMARY:Closed for the Solemnity of the Immaculate Conception
END:VEVENT
END:VCALENDAR
