BEGIN:VCALENDAR
VERSION:2.0
PRODID:-//pilgrimcenterofhope.org//NONSGML kigkonsult.se iCalcreator 2.30.1
 0//
CALSCALE:GREGORIAN
METHOD:PUBLISH
UID:924843ab-0796-4379-b2c3-894ababe08c3
X-WR-CALDESC:While we are not a parish\, Pilgrim Center of Hope is blessed 
 with Gethsemane Chapel for periodic prayer and devotions.\n\nWe invite you
  to join us for the Holy Mass celebrated by Fr. Thomas Olikkunnel\, HGN\, 
 of St. Anthony Mary Claret Catholic Church\, especially giving thanks to G
 od for his gifts to Pilgrim Center of Hope\, offering the prayers entruste
 d to us\, and praying for the future of this ministry.\n\n(Subject to chan
 ge\, contact us to reconfirm.)
X-WR-RELCALID:fb4a6d85b5b73d39cc8e4d67bb997a6b
X-WR-TIMEZONE:America/Chicago
BEGIN:VTIMEZONE
TZID:America/Chicago
BEGIN:STANDARD
TZNAME:CST
DTSTART:20251102T020000
TZOFFSETFROM:-0500
TZOFFSETTO:-0600
RDATE:20261101T020000
END:STANDARD
BEGIN:DAYLIGHT
TZNAME:CDT
DTSTART:20250309T020000
TZOFFSETFROM:-0600
TZOFFSETTO:-0500
RDATE:20260308T020000
RDATE:20270314T020000
END:DAYLIGHT
END:VTIMEZONE
BEGIN:VEVENT
UID:5223561a-4a10-45b4-b809-08359e128d5e
DTSTAMP:20260419T163236Z
DESCRIPTION:While we are not a parish\, Pilgrim Center of Hope is blessed w
 ith Gethsemane Chapel for periodic prayer and devotions.\n\nWe invite you 
 to join us for the Holy Mass celebrated by Fr. Thomas Olikkunnel\, HGN\, o
 f St. Anthony Mary Claret Catholic Church\, especially giving thanks to Go
 d for his gifts to Pilgrim Center of Hope\, offering the prayers entrusted
  to us\, and praying for the future of this ministry.\n\n(Subject to chang
 e\, contact us to reconfirm.)
DTSTART;TZID=America/Chicago:20251203T093000
DTEND;TZID=America/Chicago:20251203T103000
LOCATION:7680 Joe Newton\, San Antonio\, AL 78251 US
SUMMARY:Mass for Pilgrim Center of Hope's Mission
END:VEVENT
END:VCALENDAR
