BEGIN:VCALENDAR
VERSION:2.0
PRODID:-//pilgrimcenterofhope.org//NONSGML kigkonsult.se iCalcreator 2.30.1
 0//
CALSCALE:GREGORIAN
METHOD:PUBLISH
UID:4f449759-7f1f-4e9b-8b20-ee5a1cd937e3
X-WR-CALDESC:Take advantage of this special opportunity to be inspired and 
 encouraged during this Season of Hope!\n\nYou are invited to a special Adv
 ent evening that will give hope\, healing\, and inspiration. Mary Jane Fox
 \, of Pilgrim Center of Hope\, will present “A Journey to Bethlehem”. You 
 will have the opportunity to venerate an authentic relic stone from the bi
 rthplace of our Savior. An Advent Rosary will be included. \n\nTime: 6:00p
 m – 8:30pm\nLocation: Parish Hall\n\nThis event is open to the public.
X-WR-RELCALID:2336fd9f1cf55d8eb67b8e30b8e35ffe
X-WR-TIMEZONE:America/Chicago
BEGIN:VTIMEZONE
TZID:America/Chicago
BEGIN:STANDARD
TZNAME:CST
DTSTART:20251102T020000
TZOFFSETFROM:-0500
TZOFFSETTO:-0600
RDATE:20261101T020000
END:STANDARD
BEGIN:DAYLIGHT
TZNAME:CDT
DTSTART:20250309T020000
TZOFFSETFROM:-0600
TZOFFSETTO:-0500
RDATE:20260308T020000
RDATE:20270314T020000
END:DAYLIGHT
END:VTIMEZONE
BEGIN:VEVENT
UID:e2133f99-ff7e-415d-9072-b12752f6f4bf
DTSTAMP:20260419T164309Z
DESCRIPTION:Take advantage of this special opportunity to be inspired and e
 ncouraged during this Season of Hope!\n\nYou are invited to a special Adve
 nt evening that will give hope\, healing\, and inspiration. Mary Jane Fox\
 , of Pilgrim Center of Hope\, will present “A Journey to Bethlehem”. You w
 ill have the opportunity to venerate an authentic relic stone from the bir
 thplace of our Savior. An Advent Rosary will be included. \n\nTime: 6:00pm
  – 8:30pm\nLocation: Parish Hall\n\nThis event is open to the public.
DTSTART;TZID=America/Chicago:20251201T180000
DTEND;TZID=America/Chicago:20251201T200000
LOCATION:310 FM 2200 S\, D’Hanis\, TX 78850 US
SUMMARY:Journey to Bethlehem at Holy Cross Parish
END:VEVENT
END:VCALENDAR
