BEGIN:VCALENDAR
VERSION:2.0
PRODID:-//pilgrimcenterofhope.org//NONSGML kigkonsult.se iCalcreator 2.30.1
 0//
CALSCALE:GREGORIAN
METHOD:PUBLISH
UID:a429a77c-0d30-4ebc-845d-e81e5a0606a2
X-WR-CALDESC:We will be closed on Thanksgiving Day and the following Friday
 .
X-WR-RELCALID:453aacef6528cfa4591b9be073ddb831
X-WR-TIMEZONE:America/Chicago
BEGIN:VTIMEZONE
TZID:America/Chicago
BEGIN:STANDARD
TZNAME:CST
DTSTART:20251102T020000
TZOFFSETFROM:-0500
TZOFFSETTO:-0600
RDATE:20261101T020000
END:STANDARD
BEGIN:DAYLIGHT
TZNAME:CDT
DTSTART:20250309T020000
TZOFFSETFROM:-0600
TZOFFSETTO:-0500
RDATE:20260308T020000
RDATE:20270314T020000
END:DAYLIGHT
END:VTIMEZONE
BEGIN:VEVENT
UID:1a588a53-e9b1-438b-acd2-b8ec12d9fdb1
DTSTAMP:20260419T180809Z
DESCRIPTION:We will be closed on Thanksgiving Day and the following Friday.
DTSTART;TZID=America/Chicago:20251127T050000
DTEND;TZID=America/Chicago:20251128T050001
LOCATION:
SUMMARY:Closed for Thanksgiving
END:VEVENT
END:VCALENDAR
