BEGIN:VCALENDAR
VERSION:2.0
PRODID:-//pilgrimcenterofhope.org//NONSGML kigkonsult.se iCalcreator 2.30.1
 0//
CALSCALE:GREGORIAN
METHOD:PUBLISH
UID:5b4e70ae-7994-4fc6-8505-250eba472625
X-WR-CALDESC:Have a Social with the Saints! Receive encouragement for your 
 daily life as we meet & discuss the Blessed Virgin Mary's cousin\, Elizabe
 th - a woman of profound hope. Who was she? How will she help and inspire 
 you?\n\nJoin us at Pilgrim Center of Hope for an in-person gathering\, dis
 cussion & prayer.\n\nCost: Pilgrim Center of Hope is a non-profit evangeli
 zation ministry\, sustained only by donations. While there is no required 
 fee for attending\, please consider donating a one-time gift or showing yo
 ur support with a monthly donation. Every bit helps this mission of hope t
 o continue. Thank you!
X-WR-RELCALID:a912ec585f30003b39804b925c32ef81
X-WR-TIMEZONE:America/Chicago
BEGIN:VTIMEZONE
TZID:America/Chicago
BEGIN:STANDARD
TZNAME:CST
DTSTART:20251102T020000
TZOFFSETFROM:-0500
TZOFFSETTO:-0600
RDATE:20261101T020000
END:STANDARD
BEGIN:DAYLIGHT
TZNAME:CDT
DTSTART:20250309T020000
TZOFFSETFROM:-0600
TZOFFSETTO:-0500
RDATE:20260308T020000
RDATE:20270314T020000
END:DAYLIGHT
END:VTIMEZONE
BEGIN:VEVENT
UID:5a76908e-d80c-4382-a56f-2119ddfec62d
DTSTAMP:20260419T180921Z
DESCRIPTION:Have a Social with the Saints! Receive encouragement for your d
 aily life as we meet & discuss the Blessed Virgin Mary's cousin\, Elizabet
 h - a woman of profound hope. Who was she? How will she help and inspire y
 ou?\n\nJoin us at Pilgrim Center of Hope for an in-person gathering\, disc
 ussion & prayer.\n\nCost: Pilgrim Center of Hope is a non-profit evangeliz
 ation ministry\, sustained only by donations. While there is no required f
 ee for attending\, please consider donating a one-time gift or showing you
 r support with a monthly donation. Every bit helps this mission of hope to
  continue. Thank you!
DTSTART;TZID=America/Chicago:20251120T140000
DTEND;TZID=America/Chicago:20251120T153000
LOCATION:7680 Joe Newton\, San Antonio\, TX 78251 US
SUMMARY:St. Elizabeth Social with the Saints
END:VEVENT
END:VCALENDAR
