BEGIN:VCALENDAR
VERSION:2.0
PRODID:-//pilgrimcenterofhope.org//NONSGML kigkonsult.se iCalcreator 2.30.1
 0//
CALSCALE:GREGORIAN
METHOD:PUBLISH
UID:ebf64982-1d3e-4824-8a5c-3c10dadd5f93
X-WR-CALDESC:Explore an unsolved mystery - the most studied artifact in the
  world\; an ancient\, linen cloth bearing the image of a scourged\, crucif
 ied man's body. Who do you say he is?\n\n1:30pm-3:00pm Presentation\, foll
 owed by Q&A.\nLocation: Huisache Hall
X-WR-RELCALID:7e0aa7a71e7d1b700c07080e1532287e
X-WR-TIMEZONE:America/Chicago
BEGIN:VTIMEZONE
TZID:America/Chicago
BEGIN:STANDARD
TZNAME:CST
DTSTART:20251102T020000
TZOFFSETFROM:-0500
TZOFFSETTO:-0600
RDATE:20261101T020000
END:STANDARD
BEGIN:DAYLIGHT
TZNAME:CDT
DTSTART:20250309T020000
TZOFFSETFROM:-0600
TZOFFSETTO:-0500
RDATE:20260308T020000
RDATE:20270314T020000
END:DAYLIGHT
END:VTIMEZONE
BEGIN:VEVENT
UID:3d79d008-4e0b-4592-bd31-193189ff13f4
DTSTAMP:20260419T181401Z
DESCRIPTION:Explore an unsolved mystery - the most studied artifact in the 
 world\; an ancient\, linen cloth bearing the image of a scourged\, crucifi
 ed man's body. Who do you say he is?\n\n1:30pm-3:00pm Presentation\, follo
 wed by Q&A.\nLocation: Huisache Hall
DTSTART;TZID=America/Chicago:20251119T133000
DTEND;TZID=America/Chicago:20251119T150000
LOCATION:3535 N. Ellison Dr.\, Huisache Hall\, San Antonio\, TX 78251 US
SUMMARY:Who Is the Man of the Shroud? @ Northwest Vista College
END:VEVENT
END:VCALENDAR
