BEGIN:VCALENDAR
VERSION:2.0
PRODID:-//pilgrimcenterofhope.org//NONSGML kigkonsult.se iCalcreator 2.30.1
 0//
CALSCALE:GREGORIAN
METHOD:PUBLISH
UID:7bb3b8bd-2fcb-4544-8d6f-369f514f8564
X-WR-CALDESC:Join Mary Jane Fox and Nan Balfour at Holy Cross Catholic Chur
 ch in Yorktown\, TX - The Shroud of Turin is the most studied artifact in 
 history but is it the linen burial cloth that wrapped the body of Jesus Ch
 rist? Come to a Journey with the Shroud\; includes presentation\, Q&A\, an
 d time to browse mini versions of the Who is the Man of the Shroud? museum
  exhibition panels.\n\nPresentation location: Holy Cross Activity Center\n
 Open to the public
X-WR-RELCALID:f329d4c8b6f93be0c55484277cc8fe65
X-WR-TIMEZONE:America/Chicago
BEGIN:VTIMEZONE
TZID:America/Chicago
BEGIN:STANDARD
TZNAME:CST
DTSTART:20251102T020000
TZOFFSETFROM:-0500
TZOFFSETTO:-0600
RDATE:20261101T020000
END:STANDARD
BEGIN:DAYLIGHT
TZNAME:CDT
DTSTART:20250309T020000
TZOFFSETFROM:-0600
TZOFFSETTO:-0500
RDATE:20260308T020000
RDATE:20270314T020000
END:DAYLIGHT
END:VTIMEZONE
BEGIN:VEVENT
UID:21c598f9-ef61-493a-8f79-831427ed0407
DTSTAMP:20260419T180936Z
DESCRIPTION:Join Mary Jane Fox and Nan Balfour at Holy Cross Catholic Churc
 h in Yorktown\, TX - The Shroud of Turin is the most studied artifact in h
 istory but is it the linen burial cloth that wrapped the body of Jesus Chr
 ist? Come to a Journey with the Shroud\; includes presentation\, Q&A\, and
  time to browse mini versions of the Who is the Man of the Shroud? museum 
 exhibition panels.\n\nPresentation location: Holy Cross Activity Center\nO
 pen to the public
DTSTART;TZID=America/Chicago:20251109T130000
DTEND;TZID=America/Chicago:20251109T150000
LOCATION:1214 Zorn Rd.\, Yorktown\, TX 78164 US
SUMMARY:Parish Presentation: Journey with the Shroud
END:VEVENT
END:VCALENDAR
