BEGIN:VCALENDAR
VERSION:2.0
PRODID:-//pilgrimcenterofhope.org//NONSGML kigkonsult.se iCalcreator 2.30.1
 0//
CALSCALE:GREGORIAN
METHOD:PUBLISH
UID:ba89e09d-e71c-416d-bec3-e34f1db92aba
X-WR-CALDESC:Have a Social with the Saints! Receive encouragement for your 
 daily life as we meet & discuss this professor and physician. Who was he? 
 How will he help and inspire you?\n\nJoin us at Pilgrim Center of Hope for
  an in-person gathering\, discussion & prayer.\n\nCost: Pilgrim Center of 
 Hope is a non-profit evangelization ministry\, sustained only by donations
 . While there is no required fee for attending\, please consider donating 
 a one-time gift or showing your support with a monthly donation. Every bit
  helps this mission of hope to continue. Thank you!
X-WR-RELCALID:acd06ba4626f1a8c349bdae57c078b27
X-WR-TIMEZONE:America/Chicago
BEGIN:VTIMEZONE
TZID:America/Chicago
BEGIN:STANDARD
TZNAME:CST
DTSTART:20241103T020000
TZOFFSETFROM:-0500
TZOFFSETTO:-0600
RDATE:20251102T020000
RDATE:20261101T020000
END:STANDARD
BEGIN:DAYLIGHT
TZNAME:CDT
DTSTART:20250309T020000
TZOFFSETFROM:-0600
TZOFFSETTO:-0500
RDATE:20260308T020000
RDATE:20270314T020000
END:DAYLIGHT
END:VTIMEZONE
BEGIN:VEVENT
UID:97078e8c-480f-4a02-ad43-f6792a4f8689
DTSTAMP:20260419T194243Z
DESCRIPTION:Have a Social with the Saints! Receive encouragement for your d
 aily life as we meet & discuss this professor and physician. Who was he? H
 ow will he help and inspire you?\n\nJoin us at Pilgrim Center of Hope for 
 an in-person gathering\, discussion & prayer.\n\nCost: Pilgrim Center of H
 ope is a non-profit evangelization ministry\, sustained only by donations.
  While there is no required fee for attending\, please consider donating a
  one-time gift or showing your support with a monthly donation. Every bit 
 helps this mission of hope to continue. Thank you!
DTSTART;TZID=America/Chicago:20251016T140000
DTEND;TZID=America/Chicago:20251016T153000
LOCATION:7680 Joe Newton\, San Antonio\, TX 78251 US
SUMMARY:St. Giuseppe Moscati Social with the Saints
END:VEVENT
END:VCALENDAR
