BEGIN:VCALENDAR
VERSION:2.0
PRODID:-//pilgrimcenterofhope.org//NONSGML kigkonsult.se iCalcreator 2.30.1
 0//
CALSCALE:GREGORIAN
METHOD:PUBLISH
UID:0e19b1b3-2a9f-44ab-b72a-eb15c3581c82
X-WR-CALDESC:Listen live to this Journeys of Hope episode\, hosted by Mary 
 Jane Fox!
X-WR-RELCALID:5ee0978aa3d3fa82ab280a5bfaaaa848
X-WR-TIMEZONE:America/Chicago
BEGIN:VTIMEZONE
TZID:America/Chicago
BEGIN:STANDARD
TZNAME:CST
DTSTART:20231105T020000
TZOFFSETFROM:-0500
TZOFFSETTO:-0600
RDATE:20241103T020000
END:STANDARD
BEGIN:DAYLIGHT
TZNAME:CDT
DTSTART:20240310T020000
TZOFFSETFROM:-0600
TZOFFSETTO:-0500
RDATE:20250309T020000
END:DAYLIGHT
END:VTIMEZONE
BEGIN:VEVENT
UID:35eac37f-84e8-4121-a066-3beb91b346cd
DTSTAMP:20260421T093553Z
DESCRIPTION:Listen live to this Journeys of Hope episode\, hosted by Mary J
 ane Fox!
DTSTART;TZID=America/Chicago:20240320T200000
DTEND;TZID=America/Chicago:20240320T210000
LOCATION:89.7 FM or GRNOnline.com
SUMMARY:ENCORE Radio Broadcast: A Scriptural Journey on the Compassion of J
 esus
END:VEVENT
END:VCALENDAR
