BEGIN:VCALENDAR
VERSION:2.0
PRODID:-//pilgrimcenterofhope.org//NONSGML kigkonsult.se iCalcreator 2.30.1
 0//
CALSCALE:GREGORIAN
METHOD:PUBLISH
UID:d3ca1669-f8f3-4a64-97f7-b3d4d1766a54
X-WR-CALDESC:We will close to the public at 12noon on Good Friday to allow 
 our staff time to commemorate the Lord's Crucifixion with their families a
 nd parishes.
X-WR-RELCALID:21140744b9fdf013285470af394d2225
X-WR-TIMEZONE:America/Chicago
BEGIN:VTIMEZONE
TZID:America/Chicago
BEGIN:STANDARD
TZNAME:CST
DTSTART:20241103T020000
TZOFFSETFROM:-0500
TZOFFSETTO:-0600
RDATE:20251102T020000
END:STANDARD
BEGIN:DAYLIGHT
TZNAME:CDT
DTSTART:20250309T020000
TZOFFSETFROM:-0600
TZOFFSETTO:-0500
RDATE:20260308T020000
END:DAYLIGHT
END:VTIMEZONE
BEGIN:VEVENT
UID:849c2191-11e0-4fca-b9ea-18f13c1e4bb4
DTSTAMP:20260423T110538Z
DESCRIPTION:We will close to the public at 12noon on Good Friday to allow o
 ur staff time to commemorate the Lord's Crucifixion with their families an
 d parishes.
DTSTART;TZID=America/Chicago:20250418T120000
DTEND;TZID=America/Chicago:20250418T173000
LOCATION:7680 Joe Newton\, San Antonio\, TX 78251 US
SUMMARY:Early Closing for Good Friday
END:VEVENT
END:VCALENDAR
